Package: AffiXcan Version: 1.25.0 Command: rm -rf AffiXcan.buildbin-libdir && mkdir AffiXcan.buildbin-libdir && /Users/biocbuild/BBS/utils/build-universal.sh AffiXcan_1.25.0.tar.gz /Library/Frameworks/R.framework/Resources/bin/R AffiXcan.buildbin-libdir StartedAt: 2025-02-09 22:05:15 -0500 (Sun, 09 Feb 2025) EndedAt: 2025-02-09 22:05:25 -0500 (Sun, 09 Feb 2025) EllapsedTime: 10.2 seconds RetCode: 0 Status: OK PackageFile: AffiXcan_1.25.0.tgz PackageFileSize: 2.032 MiB