Package: AffiXcan Version: 1.25.0 Command: /Library/Frameworks/R.framework/Resources/bin/R CMD check --install=check:AffiXcan.install-out.txt --library=/Library/Frameworks/R.framework/Resources/library --no-vignettes --timings AffiXcan_1.25.0.tar.gz StartedAt: 2025-02-09 17:59:26 -0500 (Sun, 09 Feb 2025) EndedAt: 2025-02-09 18:00:30 -0500 (Sun, 09 Feb 2025) EllapsedTime: 63.9 seconds RetCode: 0 Status: OK CheckDir: AffiXcan.Rcheck Warnings: 0