Package: AffiXcan Version: 1.25.0 Command: /home/biocbuild/R/R/bin/R CMD check --install=check:AffiXcan.install-out.txt --library=/home/biocbuild/R/R/site-library --no-vignettes --timings AffiXcan_1.25.0.tar.gz StartedAt: 2025-01-28 03:26:23 -0000 (Tue, 28 Jan 2025) EndedAt: 2025-01-28 03:30:01 -0000 (Tue, 28 Jan 2025) EllapsedTime: 218.4 seconds RetCode: 0 Status: OK CheckDir: AffiXcan.Rcheck Warnings: 0