Package: AffiXcan Version: 1.25.0 Command: /Library/Frameworks/R.framework/Resources/bin/R CMD build --keep-empty-dirs --no-resave-data AffiXcan StartedAt: 2025-02-12 15:50:30 -0500 (Wed, 12 Feb 2025) EndedAt: 2025-02-12 15:51:22 -0500 (Wed, 12 Feb 2025) EllapsedTime: 51.7 seconds RetCode: 0 Status: OK PackageFile: AffiXcan_1.25.0.tar.gz PackageFileSize: 2.372 MiB