Package: AffiXcan Version: 1.25.0 Command: /Library/Frameworks/R.framework/Resources/bin/R CMD check --install=check:AffiXcan.install-out.txt --library=/Library/Frameworks/R.framework/Resources/library --no-vignettes --timings AffiXcan_1.25.0.tar.gz StartedAt: 2025-02-12 18:50:00 -0500 (Wed, 12 Feb 2025) EndedAt: 2025-02-12 18:53:24 -0500 (Wed, 12 Feb 2025) EllapsedTime: 203.7 seconds RetCode: 0 Status: OK CheckDir: AffiXcan.Rcheck Warnings: 0