Package: AffiXcan Version: 1.25.0 Command: /home/biocbuild/bbs-3.21-bioc/R/bin/R CMD build --keep-empty-dirs --no-resave-data AffiXcan StartedAt: 2025-02-09 16:06:29 -0500 (Sun, 09 Feb 2025) EndedAt: 2025-02-09 16:07:10 -0500 (Sun, 09 Feb 2025) EllapsedTime: 41.1 seconds RetCode: 0 Status: OK PackageFile: AffiXcan_1.25.0.tar.gz PackageFileSize: 2.372 MiB