Package: AffiXcan Version: 1.25.0 Command: /home/biocbuild/bbs-3.21-bioc/R/bin/R CMD check --install=check:AffiXcan.install-out.txt --library=/home/biocbuild/bbs-3.21-bioc/R/site-library --timings AffiXcan_1.25.0.tar.gz StartedAt: 2025-02-12 19:50:25 -0500 (Wed, 12 Feb 2025) EndedAt: 2025-02-12 19:53:28 -0500 (Wed, 12 Feb 2025) EllapsedTime: 182.3 seconds RetCode: 0 Status: OK CheckDir: AffiXcan.Rcheck Warnings: 0