Package: AffiXcan Version: 1.25.0 Command: /home/biocbuild/bbs-3.21-bioc/R/bin/R CMD INSTALL AffiXcan StartedAt: 2025-02-09 15:20:25 -0500 (Sun, 09 Feb 2025) EndedAt: 2025-02-09 15:20:48 -0500 (Sun, 09 Feb 2025) EllapsedTime: 22.8 seconds RetCode: 0 Status: OK