Package: AffiXcan Version: 1.25.0 Command: rm -rf AffiXcan.buildbin-libdir && mkdir AffiXcan.buildbin-libdir && E:\biocbuild\bbs-3.21-bioc\R\bin\R.exe CMD INSTALL --build --library=AffiXcan.buildbin-libdir AffiXcan_1.25.0.tar.gz StartedAt: 2025-02-10 07:09:56 -0500 (Mon, 10 Feb 2025) EndedAt: 2025-02-10 07:10:41 -0500 (Mon, 10 Feb 2025) EllapsedTime: 44.9 seconds RetCode: 0 Status: OK PackageFile: AffiXcan_1.25.0.zip PackageFileSize: 2.033 MiB