Package: AffiXcan Version: 1.25.0 Command: E:\biocbuild\bbs-3.21-bioc\R\bin\R.exe CMD check --no-multiarch --install=check:AffiXcan.install-out.txt --library=E:\biocbuild\bbs-3.21-bioc\R\library --no-vignettes --timings AffiXcan_1.25.0.tar.gz StartedAt: 2025-02-12 22:37:04 -0500 (Wed, 12 Feb 2025) EndedAt: 2025-02-12 22:42:49 -0500 (Wed, 12 Feb 2025) EllapsedTime: 345.4 seconds RetCode: 0 Status: OK CheckDir: AffiXcan.Rcheck Warnings: 0