Package: AgiMicroRna Version: 2.57.0 Command: /Library/Frameworks/R.framework/Resources/bin/R CMD build --keep-empty-dirs --no-resave-data AgiMicroRna StartedAt: 2025-02-09 15:31:45 -0500 (Sun, 09 Feb 2025) EndedAt: 2025-02-09 15:32:42 -0500 (Sun, 09 Feb 2025) EllapsedTime: 56.7 seconds RetCode: 0 Status: OK PackageFile: AgiMicroRna_2.57.0.tar.gz PackageFileSize: 3.067 MiB