Package: AgiMicroRna Version: 2.57.0 Command: /Library/Frameworks/R.framework/Resources/bin/R CMD check --install=check:AgiMicroRna.install-out.txt --library=/Library/Frameworks/R.framework/Resources/library --no-vignettes --timings AgiMicroRna_2.57.0.tar.gz StartedAt: 2025-02-09 18:00:16 -0500 (Sun, 09 Feb 2025) EndedAt: 2025-02-09 18:02:49 -0500 (Sun, 09 Feb 2025) EllapsedTime: 152.9 seconds RetCode: 0 Status: WARNINGS CheckDir: AgiMicroRna.Rcheck Warnings: 1