Package: AgiMicroRna Version: 2.57.0 Command: /Library/Frameworks/R.framework/Resources/bin/R CMD INSTALL AgiMicroRna StartedAt: 2025-02-04 15:24:07 -0500 (Tue, 04 Feb 2025) EndedAt: 2025-02-04 15:24:33 -0500 (Tue, 04 Feb 2025) EllapsedTime: 26.0 seconds RetCode: 0 Status: OK