Package: AgiMicroRna Version: 2.57.0 Command: /home/biocbuild/R/R/bin/R CMD build --keep-empty-dirs --no-resave-data AgiMicroRna StartedAt: 2025-01-29 20:46:40 -0000 (Wed, 29 Jan 2025) EndedAt: 2025-01-29 20:49:12 -0000 (Wed, 29 Jan 2025) EllapsedTime: 152.1 seconds RetCode: 0 Status: OK PackageFile: AgiMicroRna_2.57.0.tar.gz PackageFileSize: 3.061 MiB