Package: AgiMicroRna Version: 2.57.0 Command: /home/biocbuild/R/R/bin/R CMD INSTALL AgiMicroRna StartedAt: 2025-01-29 20:25:38 -0000 (Wed, 29 Jan 2025) EndedAt: 2025-01-29 20:27:08 -0000 (Wed, 29 Jan 2025) EllapsedTime: 90.0 seconds RetCode: 0 Status: OK