Package: AgiMicroRna Version: 2.57.0 Command: rm -rf AgiMicroRna.buildbin-libdir && mkdir AgiMicroRna.buildbin-libdir && /Users/biocbuild/BBS/utils/build-universal.sh AgiMicroRna_2.57.0.tar.gz /Library/Frameworks/R.framework/Resources/bin/R AgiMicroRna.buildbin-libdir StartedAt: 2025-02-10 00:41:06 -0500 (Mon, 10 Feb 2025) EndedAt: 2025-02-10 00:42:43 -0500 (Mon, 10 Feb 2025) EllapsedTime: 97.1 seconds RetCode: 0 Status: OK PackageFile: AgiMicroRna_2.57.0.tgz PackageFileSize: 3.526 MiB