Package: AgiMicroRna Version: 2.57.0 Command: /home/biocbuild/bbs-3.21-bioc/R/bin/R CMD check --install=check:AgiMicroRna.install-out.txt --library=/home/biocbuild/bbs-3.21-bioc/R/site-library --timings AgiMicroRna_2.57.0.tar.gz StartedAt: 2025-02-12 19:51:47 -0500 (Wed, 12 Feb 2025) EndedAt: 2025-02-12 19:59:15 -0500 (Wed, 12 Feb 2025) EllapsedTime: 448.8 seconds RetCode: 0 Status: WARNINGS CheckDir: AgiMicroRna.Rcheck Warnings: 1