Package: AgiMicroRna Version: 2.57.0 Command: /home/biocbuild/bbs-3.21-bioc/R/bin/R CMD INSTALL AgiMicroRna StartedAt: 2025-02-09 15:48:42 -0500 (Sun, 09 Feb 2025) EndedAt: 2025-02-09 15:49:47 -0500 (Sun, 09 Feb 2025) EllapsedTime: 64.9 seconds RetCode: 0 Status: OK