Package: AgiMicroRna Version: 2.57.0 Command: rm -rf AgiMicroRna.buildbin-libdir && mkdir AgiMicroRna.buildbin-libdir && E:\biocbuild\bbs-3.21-bioc\R\bin\R.exe CMD INSTALL --build --library=AgiMicroRna.buildbin-libdir AgiMicroRna_2.57.0.tar.gz StartedAt: 2025-02-05 07:23:31 -0500 (Wed, 05 Feb 2025) EndedAt: 2025-02-05 07:24:55 -0500 (Wed, 05 Feb 2025) EllapsedTime: 84.8 seconds RetCode: 0 Status: OK PackageFile: AgiMicroRna_2.57.0.zip PackageFileSize: 3.423 MiB