Package: AgiMicroRna Version: 2.57.0 Command: E:\biocbuild\bbs-3.21-bioc\R\bin\R.exe CMD INSTALL AgiMicroRna StartedAt: 2025-02-09 16:50:57 -0500 (Sun, 09 Feb 2025) EndedAt: 2025-02-09 16:52:19 -0500 (Sun, 09 Feb 2025) EllapsedTime: 81.4 seconds RetCode: 0 Status: OK