Package: AllelicImbalance Version: 1.45.0 Command: rm -rf AllelicImbalance.buildbin-libdir && mkdir AllelicImbalance.buildbin-libdir && /Users/biocbuild/BBS/utils/build-universal.sh AllelicImbalance_1.45.0.tar.gz /Library/Frameworks/R.framework/Resources/bin/R AllelicImbalance.buildbin-libdir StartedAt: 2025-02-05 22:10:31 -0500 (Wed, 05 Feb 2025) EndedAt: 2025-02-05 22:10:54 -0500 (Wed, 05 Feb 2025) EllapsedTime: 23.5 seconds RetCode: 0 Status: OK PackageFile: AllelicImbalance_1.45.0.tgz PackageFileSize: 1.23 MiB