Package: AllelicImbalance Version: 1.45.0 Command: /Library/Frameworks/R.framework/Resources/bin/R CMD build --keep-empty-dirs --no-resave-data AllelicImbalance StartedAt: 2025-02-05 15:33:26 -0500 (Wed, 05 Feb 2025) EndedAt: 2025-02-05 15:34:23 -0500 (Wed, 05 Feb 2025) EllapsedTime: 56.6 seconds RetCode: 0 Status: OK PackageFile: AllelicImbalance_1.45.0.tar.gz PackageFileSize: 772.1 KiB