Package: AllelicImbalance Version: 1.45.0 Command: /Library/Frameworks/R.framework/Resources/bin/R CMD check --install=check:AllelicImbalance.install-out.txt --library=/Library/Frameworks/R.framework/Resources/library --no-vignettes --timings AllelicImbalance_1.45.0.tar.gz StartedAt: 2025-02-05 18:04:33 -0500 (Wed, 05 Feb 2025) EndedAt: 2025-02-05 18:07:29 -0500 (Wed, 05 Feb 2025) EllapsedTime: 175.4 seconds RetCode: 0 Status: OK CheckDir: AllelicImbalance.Rcheck Warnings: 0