Package: AllelicImbalance Version: 1.45.0 Command: /home/biocbuild/R/R/bin/R CMD check --install=check:AllelicImbalance.install-out.txt --library=/home/biocbuild/R/R/site-library --no-vignettes --timings AllelicImbalance_1.45.0.tar.gz StartedAt: 2025-01-28 03:30:03 -0000 (Tue, 28 Jan 2025) EndedAt: 2025-01-28 03:40:08 -0000 (Tue, 28 Jan 2025) EllapsedTime: 604.9 seconds RetCode: 0 Status: WARNINGS CheckDir: AllelicImbalance.Rcheck Warnings: 6