Package: AllelicImbalance Version: 1.45.0 Command: rm -rf AllelicImbalance.buildbin-libdir && mkdir AllelicImbalance.buildbin-libdir && /Users/biocbuild/BBS/utils/build-universal.sh AllelicImbalance_1.45.0.tar.gz /Library/Frameworks/R.framework/Resources/bin/R AllelicImbalance.buildbin-libdir StartedAt: 2025-02-06 00:18:29 -0500 (Thu, 06 Feb 2025) EndedAt: 2025-02-06 00:19:46 -0500 (Thu, 06 Feb 2025) EllapsedTime: 77.5 seconds RetCode: 0 Status: OK PackageFile: AllelicImbalance_1.45.0.tgz PackageFileSize: 1.227 MiB