Package: AllelicImbalance Version: 1.45.0 Command: /Library/Frameworks/R.framework/Resources/bin/R CMD build --keep-empty-dirs --no-resave-data AllelicImbalance StartedAt: 2025-02-05 15:50:58 -0500 (Wed, 05 Feb 2025) EndedAt: 2025-02-05 15:53:39 -0500 (Wed, 05 Feb 2025) EllapsedTime: 161.4 seconds RetCode: 0 Status: OK PackageFile: AllelicImbalance_1.45.0.tar.gz PackageFileSize: 773 KiB