Package: AllelicImbalance Version: 1.45.0 Command: /home/biocbuild/bbs-3.21-bioc/R/bin/R CMD build --keep-empty-dirs --no-resave-data AllelicImbalance StartedAt: 2025-02-05 16:07:17 -0500 (Wed, 05 Feb 2025) EndedAt: 2025-02-05 16:09:36 -0500 (Wed, 05 Feb 2025) EllapsedTime: 139.3 seconds RetCode: 0 Status: OK PackageFile: AllelicImbalance_1.45.0.tar.gz PackageFileSize: 772.9 KiB