Package: AllelicImbalance Version: 1.45.0 Command: /home/biocbuild/bbs-3.21-bioc/R/bin/R CMD check --install=check:AllelicImbalance.install-out.txt --library=/home/biocbuild/bbs-3.21-bioc/R/site-library --timings AllelicImbalance_1.45.0.tar.gz StartedAt: 2025-02-05 19:57:48 -0500 (Wed, 05 Feb 2025) EndedAt: 2025-02-05 20:06:57 -0500 (Wed, 05 Feb 2025) EllapsedTime: 549.1 seconds RetCode: 0 Status: OK CheckDir: AllelicImbalance.Rcheck Warnings: 0