Package: AllelicImbalance Version: 1.45.0 Command: /home/biocbuild/bbs-3.21-bioc/R/bin/R CMD INSTALL AllelicImbalance StartedAt: 2025-02-05 15:47:43 -0500 (Wed, 05 Feb 2025) EndedAt: 2025-02-05 15:48:36 -0500 (Wed, 05 Feb 2025) EllapsedTime: 53.7 seconds RetCode: 0 Status: OK