Package: AllelicImbalance Version: 1.45.0 Command: rm -rf AllelicImbalance.buildbin-libdir && mkdir AllelicImbalance.buildbin-libdir && E:\biocbuild\bbs-3.21-bioc\R\bin\R.exe CMD INSTALL --build --library=AllelicImbalance.buildbin-libdir AllelicImbalance_1.45.0.tar.gz StartedAt: 2025-02-06 07:29:21 -0500 (Thu, 06 Feb 2025) EndedAt: 2025-02-06 07:36:19 -0500 (Thu, 06 Feb 2025) EllapsedTime: 417.6 seconds RetCode: 0 Status: OK PackageFile: AllelicImbalance_1.45.0.zip PackageFileSize: 1.234 MiB