Package: AllelicImbalance Version: 1.45.0 Command: chmod a+r AllelicImbalance -R && E:\biocbuild\bbs-3.21-bioc\R\bin\R.exe CMD build --keep-empty-dirs --no-resave-data AllelicImbalance StartedAt: 2025-02-05 17:15:22 -0500 (Wed, 05 Feb 2025) EndedAt: 2025-02-05 17:21:34 -0500 (Wed, 05 Feb 2025) EllapsedTime: 372.6 seconds RetCode: 0 Status: OK PackageFile: AllelicImbalance_1.45.0.tar.gz PackageFileSize: 766.8 KiB