Package: AllelicImbalance Version: 1.45.0 Command: E:\biocbuild\bbs-3.21-bioc\R\bin\R.exe CMD INSTALL AllelicImbalance StartedAt: 2025-02-05 16:20:01 -0500 (Wed, 05 Feb 2025) EndedAt: 2025-02-05 16:21:48 -0500 (Wed, 05 Feb 2025) EllapsedTime: 107.1 seconds RetCode: 0 Status: OK