Package: AlphaBeta Version: 1.21.0 Command: rm -rf AlphaBeta.buildbin-libdir && mkdir AlphaBeta.buildbin-libdir && /Users/biocbuild/BBS/utils/build-universal.sh AlphaBeta_1.21.0.tar.gz /Library/Frameworks/R.framework/Resources/bin/R AlphaBeta.buildbin-libdir StartedAt: 2025-02-09 22:05:38 -0500 (Sun, 09 Feb 2025) EndedAt: 2025-02-09 22:05:44 -0500 (Sun, 09 Feb 2025) EllapsedTime: 6.1 seconds RetCode: 0 Status: OK PackageFile: AlphaBeta_1.21.0.tgz PackageFileSize: 2.702 MiB