Package: AlphaBeta Version: 1.21.0 Command: /home/biocbuild/R/R/bin/R CMD build --keep-empty-dirs --no-resave-data AlphaBeta StartedAt: 2025-01-29 20:48:16 -0000 (Wed, 29 Jan 2025) EndedAt: 2025-01-29 20:55:57 -0000 (Wed, 29 Jan 2025) EllapsedTime: 461.2 seconds RetCode: 0 Status: OK PackageFile: AlphaBeta_1.21.0.tar.gz PackageFileSize: 2.473 MiB