Package: AlphaBeta Version: 1.21.0 Command: rm -rf AlphaBeta.buildbin-libdir && mkdir AlphaBeta.buildbin-libdir && /Users/biocbuild/BBS/utils/build-universal.sh AlphaBeta_1.21.0.tar.gz /Library/Frameworks/R.framework/Resources/bin/R AlphaBeta.buildbin-libdir StartedAt: 2025-02-10 00:41:29 -0500 (Mon, 10 Feb 2025) EndedAt: 2025-02-10 00:41:52 -0500 (Mon, 10 Feb 2025) EllapsedTime: 23.0 seconds RetCode: 0 Status: OK PackageFile: AlphaBeta_1.21.0.tgz PackageFileSize: 2.673 MiB