Package: AlphaBeta Version: 1.21.0 Command: /home/biocbuild/bbs-3.21-bioc/R/bin/R CMD build --keep-empty-dirs --no-resave-data AlphaBeta StartedAt: 2025-02-09 16:08:05 -0500 (Sun, 09 Feb 2025) EndedAt: 2025-02-09 16:12:41 -0500 (Sun, 09 Feb 2025) EllapsedTime: 275.3 seconds RetCode: 0 Status: OK PackageFile: AlphaBeta_1.21.0.tar.gz PackageFileSize: 2.476 MiB