Package: AlphaBeta Version: 1.21.0 Command: /home/biocbuild/bbs-3.21-bioc/R/bin/R CMD check --install=check:AlphaBeta.install-out.txt --library=/home/biocbuild/bbs-3.21-bioc/R/site-library --timings AlphaBeta_1.21.0.tar.gz StartedAt: 2025-02-09 19:58:14 -0500 (Sun, 09 Feb 2025) EndedAt: 2025-02-09 20:08:29 -0500 (Sun, 09 Feb 2025) EllapsedTime: 615.1 seconds RetCode: 0 Status: OK CheckDir: AlphaBeta.Rcheck Warnings: 0