Package: AlphaBeta Version: 1.21.0 Command: chmod a+r AlphaBeta -R && E:\biocbuild\bbs-3.21-bioc\R\bin\R.exe CMD build --keep-empty-dirs --no-resave-data AlphaBeta StartedAt: 2025-02-09 17:11:59 -0500 (Sun, 09 Feb 2025) EndedAt: 2025-02-09 17:17:04 -0500 (Sun, 09 Feb 2025) EllapsedTime: 304.7 seconds RetCode: 0 Status: OK PackageFile: AlphaBeta_1.21.0.tar.gz PackageFileSize: 2.475 MiB