Package: AnVILAz Version: 1.1.0 Command: /Library/Frameworks/R.framework/Resources/bin/R CMD check --install=check:AnVILAz.install-out.txt --library=/Library/Frameworks/R.framework/Resources/library --no-vignettes --timings AnVILAz_1.1.0.tar.gz StartedAt: 2025-02-12 18:04:20 -0500 (Wed, 12 Feb 2025) EndedAt: 2025-02-12 18:04:35 -0500 (Wed, 12 Feb 2025) EllapsedTime: 14.2 seconds RetCode: 0 Status: OK CheckDir: AnVILAz.Rcheck Warnings: 0