Package: AnVILAz Version: 1.1.0 Command: rm -rf AnVILAz.buildbin-libdir && mkdir AnVILAz.buildbin-libdir && /Users/biocbuild/BBS/utils/build-universal.sh AnVILAz_1.1.0.tar.gz /Library/Frameworks/R.framework/Resources/bin/R AnVILAz.buildbin-libdir StartedAt: 2025-02-10 00:41:52 -0500 (Mon, 10 Feb 2025) EndedAt: 2025-02-10 00:42:00 -0500 (Mon, 10 Feb 2025) EllapsedTime: 8.1 seconds RetCode: 0 Status: OK PackageFile: AnVILAz_1.1.0.tgz PackageFileSize: 830.4 KiB