Package: AnVILAz Version: 1.1.0 Command: /Library/Frameworks/R.framework/Resources/bin/R CMD INSTALL AnVILAz StartedAt: 2025-02-12 15:09:17 -0500 (Wed, 12 Feb 2025) EndedAt: 2025-02-12 15:09:22 -0500 (Wed, 12 Feb 2025) EllapsedTime: 4.9 seconds RetCode: 0 Status: OK