Package: AnVILAz Version: 1.1.0 Command: /home/biocbuild/bbs-3.21-bioc/R/bin/R CMD check --install=check:AnVILAz.install-out.txt --library=/home/biocbuild/bbs-3.21-bioc/R/site-library --timings AnVILAz_1.1.0.tar.gz StartedAt: 2025-02-09 20:01:59 -0500 (Sun, 09 Feb 2025) EndedAt: 2025-02-09 20:02:31 -0500 (Sun, 09 Feb 2025) EllapsedTime: 32.1 seconds RetCode: 0 Status: OK CheckDir: AnVILAz.Rcheck Warnings: 0