Package: AnVILAz Version: 1.1.0 Command: rm -rf AnVILAz.buildbin-libdir && mkdir AnVILAz.buildbin-libdir && E:\biocbuild\bbs-3.21-bioc\R\bin\R.exe CMD INSTALL --build --library=AnVILAz.buildbin-libdir AnVILAz_1.1.0.tar.gz StartedAt: 2025-02-10 07:12:48 -0500 (Mon, 10 Feb 2025) EndedAt: 2025-02-10 07:13:22 -0500 (Mon, 10 Feb 2025) EllapsedTime: 33.6 seconds RetCode: 0 Status: OK PackageFile: AnVILAz_1.1.0.zip PackageFileSize: 836.1 KiB