Package: AnVILAz Version: 1.1.0 Command: chmod a+r AnVILAz -R && E:\biocbuild\bbs-3.21-bioc\R\bin\R.exe CMD build --keep-empty-dirs --no-resave-data AnVILAz StartedAt: 2025-02-09 17:14:32 -0500 (Sun, 09 Feb 2025) EndedAt: 2025-02-09 17:15:08 -0500 (Sun, 09 Feb 2025) EllapsedTime: 36.4 seconds RetCode: 0 Status: OK PackageFile: AnVILAz_1.1.0.tar.gz PackageFileSize: 826.4 KiB