Package: AnVILAz Version: 1.1.0 Command: E:\biocbuild\bbs-3.21-bioc\R\bin\R.exe CMD check --no-multiarch --install=check:AnVILAz.install-out.txt --library=E:\biocbuild\bbs-3.21-bioc\R\library --no-vignettes --timings AnVILAz_1.1.0.tar.gz StartedAt: 2025-02-09 22:38:01 -0500 (Sun, 09 Feb 2025) EndedAt: 2025-02-09 22:38:45 -0500 (Sun, 09 Feb 2025) EllapsedTime: 43.6 seconds RetCode: 0 Status: OK CheckDir: AnVILAz.Rcheck Warnings: 0