Package: AnVILPublish Version: 1.17.0 Command: rm -rf AnVILPublish.buildbin-libdir && mkdir AnVILPublish.buildbin-libdir && /Users/biocbuild/BBS/utils/build-universal.sh AnVILPublish_1.17.0.tar.gz /Library/Frameworks/R.framework/Resources/bin/R AnVILPublish.buildbin-libdir StartedAt: 2025-02-12 22:10:58 -0500 (Wed, 12 Feb 2025) EndedAt: 2025-02-12 22:11:02 -0500 (Wed, 12 Feb 2025) EllapsedTime: 3.1 seconds RetCode: 0 Status: OK PackageFile: AnVILPublish_1.17.0.tgz PackageFileSize: 259.2 KiB