Package: AnVILPublish Version: 1.17.0 Command: rm -rf AnVILPublish.buildbin-libdir && mkdir AnVILPublish.buildbin-libdir && E:\biocbuild\bbs-3.21-bioc\R\bin\R.exe CMD INSTALL --build --library=AnVILPublish.buildbin-libdir AnVILPublish_1.17.0.tar.gz StartedAt: 2025-02-10 07:13:01 -0500 (Mon, 10 Feb 2025) EndedAt: 2025-02-10 07:13:20 -0500 (Mon, 10 Feb 2025) EllapsedTime: 19.4 seconds RetCode: 0 Status: OK PackageFile: AnVILPublish_1.17.0.zip PackageFileSize: 267.2 KiB