Package: Anaquin Version: 2.31.0 Command: /Library/Frameworks/R.framework/Resources/bin/R CMD check --install=check:Anaquin.install-out.txt --library=/Library/Frameworks/R.framework/Resources/library --no-vignettes --timings Anaquin_2.31.0.tar.gz StartedAt: 2025-02-09 18:02:26 -0500 (Sun, 09 Feb 2025) EndedAt: 2025-02-09 18:02:51 -0500 (Sun, 09 Feb 2025) EllapsedTime: 24.3 seconds RetCode: 0 Status: OK CheckDir: Anaquin.Rcheck Warnings: 0