Package: Anaquin Version: 2.31.0 Command: /Library/Frameworks/R.framework/Resources/bin/R CMD build --keep-empty-dirs --no-resave-data Anaquin StartedAt: 2025-02-12 15:52:00 -0500 (Wed, 12 Feb 2025) EndedAt: 2025-02-12 15:52:29 -0500 (Wed, 12 Feb 2025) EllapsedTime: 28.7 seconds RetCode: 0 Status: OK PackageFile: Anaquin_2.31.0.tar.gz PackageFileSize: 452.3 KiB