Package: Anaquin Version: 2.31.0 Command: /Library/Frameworks/R.framework/Resources/bin/R CMD INSTALL Anaquin StartedAt: 2025-02-09 15:15:53 -0500 (Sun, 09 Feb 2025) EndedAt: 2025-02-09 15:16:01 -0500 (Sun, 09 Feb 2025) EllapsedTime: 7.8 seconds RetCode: 0 Status: OK